BEGIN:VCALENDAR
VERSION:2.0
PRODID:-//Mountain Vista Greens Golf Course - ECPv6.15.20//NONSGML v1.0//EN
CALSCALE:GREGORIAN
METHOD:PUBLISH
X-WR-CALNAME:Mountain Vista Greens Golf Course
X-ORIGINAL-URL:https://mountainvistagreens.com
X-WR-CALDESC:Events for Mountain Vista Greens Golf Course
REFRESH-INTERVAL;VALUE=DURATION:PT1H
X-Robots-Tag:noindex
X-PUBLISHED-TTL:PT1H
BEGIN:VTIMEZONE
TZID:UTC
BEGIN:STANDARD
TZOFFSETFROM:+0000
TZOFFSETTO:+0000
TZNAME:UTC
DTSTART:20160101T000000
END:STANDARD
END:VTIMEZONE
BEGIN:VEVENT
DTSTART;TZID=UTC:20170602T083000
DTEND;TZID=UTC:20170602T113000
DTSTAMP:20260419T135322
CREATED:20170310T043821Z
LAST-MODIFIED:20170519T183536Z
UID:1862-1496392200-1496403000@mountainvistagreens.com
SUMMARY:Gary Wetlaufer Memorial
DESCRIPTION:33 players\, 9 holes
URL:https://mountainvistagreens.com/event/gary-wetlaufer-memorial/
CATEGORIES:Tournament
END:VEVENT
BEGIN:VEVENT
DTSTART;TZID=UTC:20170603T080000
DTEND;TZID=UTC:20170603T110000
DTSTAMP:20260419T135322
CREATED:20170310T043905Z
LAST-MODIFIED:20170310T043905Z
UID:1864-1496476800-1496487600@mountainvistagreens.com
SUMMARY:Terri Coomer Fundraiser
DESCRIPTION:48 players\, 9 holes
URL:https://mountainvistagreens.com/event/terri-coomer-fundraiser/
CATEGORIES:Tournament
END:VEVENT
BEGIN:VEVENT
DTSTART;TZID=UTC:20170604T073000
DTEND;TZID=UTC:20170604T130000
DTSTAMP:20260419T135322
CREATED:20170310T043957Z
LAST-MODIFIED:20170310T044126Z
UID:1866-1496561400-1496581200@mountainvistagreens.com
SUMMARY:Relay for Life
DESCRIPTION:72 players\, 18 holes
URL:https://mountainvistagreens.com/event/relay-for-life/
CATEGORIES:Tournament
END:VEVENT
BEGIN:VEVENT
DTSTART;TZID=UTC:20170604T140000
DTEND;TZID=UTC:20170604T170000
DTSTAMP:20260419T135322
CREATED:20170409T164538Z
LAST-MODIFIED:20170409T164557Z
UID:2010-1496584800-1496595600@mountainvistagreens.com
SUMMARY:Habitat for Humanity
DESCRIPTION:20 players 9 holes
URL:https://mountainvistagreens.com/event/habitat-for-humanity/
CATEGORIES:Tournament
END:VEVENT
BEGIN:VEVENT
DTSTART;TZID=UTC:20170609T120000
DTEND;TZID=UTC:20170609T160000
DTSTAMP:20260419T135322
CREATED:20170331T221218Z
LAST-MODIFIED:20170331T221218Z
UID:1978-1497009600-1497024000@mountainvistagreens.com
SUMMARY:New Works Mechanical
DESCRIPTION:70 players\, 9 holes
URL:https://mountainvistagreens.com/event/new-works-mechanical-2/
CATEGORIES:Tournament
END:VEVENT
BEGIN:VEVENT
DTSTART;TZID=UTC:20170610T170000
DTEND;TZID=UTC:20170610T230000
DTSTAMP:20260419T135322
CREATED:20170310T044233Z
LAST-MODIFIED:20170310T044233Z
UID:1870-1497114000-1497135600@mountainvistagreens.com
SUMMARY:GLOW BALL
DESCRIPTION:36 players\, 9 holes
URL:https://mountainvistagreens.com/event/glow-ball/
CATEGORIES:Tournament
END:VEVENT
BEGIN:VEVENT
DTSTART;TZID=UTC:20170616T080000
DTEND;TZID=UTC:20170616T110000
DTSTAMP:20260419T135322
CREATED:20170310T044432Z
LAST-MODIFIED:20170310T044432Z
UID:1872-1497600000-1497610800@mountainvistagreens.com
SUMMARY:3 Hopeful Hearts
DESCRIPTION:72 players\, 9 holes
URL:https://mountainvistagreens.com/event/3-hopeful-hearts-2/
CATEGORIES:Tournament
END:VEVENT
BEGIN:VEVENT
DTSTART;TZID=UTC:20170617T100000
DTEND;TZID=UTC:20170617T140000
DTSTAMP:20260419T135322
CREATED:20170310T044523Z
LAST-MODIFIED:20170501T230945Z
UID:1874-1497693600-1497708000@mountainvistagreens.com
SUMMARY:Demo Day
DESCRIPTION:Ping\, Callaway\, Mizuno\, Taylor Made
URL:https://mountainvistagreens.com/event/demo-day-8/
CATEGORIES:Events,Tournament
END:VEVENT
BEGIN:VEVENT
DTSTART;TZID=UTC:20170624T080000
DTEND;TZID=UTC:20170624T140000
DTSTAMP:20260419T135322
CREATED:20170428T224629Z
LAST-MODIFIED:20170522T171405Z
UID:2020-1498291200-1498312800@mountainvistagreens.com
SUMMARY:Dayspring Church
DESCRIPTION:32 players\, 18 holes
URL:https://mountainvistagreens.com/event/dayspring-church/
CATEGORIES:Tournament
END:VEVENT
END:VCALENDAR